BEGIN:VCALENDAR
METHOD:PUBLISH
VERSION:2.0
PRODID: TUL
BEGIN:VEVENT
SUMMARY:Přednáška Counter-Terrorism Medicine and Preparedness for Armed Conflict
UID:163
STATUS:TENTATIVE
DESCRIPTION:Přijďte si poslechnou přednášku se zahraničními speakry a diskutovat o aktuálních tématech v urgentní medicíně a medicíně katastrof. POZVÁNKA
V aule budovy G od 17.00 hod. 
DTSTAMP:20260422T150000
DTSTART:20260422
LAST-MODIFIED:
LOCATION:
END:VEVENT

END:VCALENDAR